Workbook

Sheet グローバル萩申請書
A2: 東北大学基金グローバル萩海外留学奨励賞 申請書
S4: 申請日： | V4: 年 | X4: 月 | Z4: 日
B5: 申請者 | I5: =IF(E6="■","学部",IF(I6="■","研究科",IF(O6="■","研究科","学部/研究科"))) -> 学部/研究科 | R5: =IF(E6="■","学科",IF(I6="■","専攻",IF(O6="■","専攻","学科/専攻"))) -> 学科/専攻 | U5: 学年 | Z5: 年 | AI5: 学部 | AM5: 学科
E6: □ | F6: 学部生 | I6: □ | J6: 大学院生(博士前期) | O6: □ | P6: 大学院生(博士後期) | AI6: 研究科 | AM6: 専攻
E7: ふりがな | U7: 性別 | W7: □ | X7: 男 | Y7: □ | Z7: 女 | AD7: □ | AE7: 博士前期 | AI7: 学部/研究科 | AM7: 学科/専攻
E8: 氏名 | U8: 生年 月日 | Z8: 年 | AD8: ■ | AE8: 博士後期
X9: 月 | Z9: 日
E10: 住所 | G10: 〒 | J10: －
E12: TEL | L12: E-mail※
B13: 留学先 | E13: 国名 | Q13: 都市名
E14: 大学名 | Y14: 大学
E15: 校名 | Y15: 校
E16: 学科、課程等
E17: 入学身分 | I17: □ | J17: 交換留学生 | N17: □ | O17: 正規学生
I18: □ | J18: その他（ | Z18: ）
E19: 留学期間(予定) | L19: 年 | N19: 月 | P19: 日 | Q19: ～ | T19: 年 | V19: 月 | X19: 日
E20: 渡航期間(予定) | L20: 年 | N20: 月 | P20: 日 | Q20: ～ | T20: 年 | V20: 月 | X20: 日
B21: 学資状況 ※月平均を 記入のこと | E21: （収入） | P21: （支出）
E22: 家庭から | N22: 円 | P22: 食費 | Y22: 円
E23: アルバイト | N23: 円 | P23: 住居費 | Y23: 円
E24: 奨学金 | N24: 円 | P24: 交通費 | Y24: 円
E25: その他 | N25: 円 | P25: 学用品費等 | Y25: 円
P26: その他 | Y26: 円
E27: 合計 | J27: =IF(SUM(J22:M25)=0,"",SUM(J22:M25)) | N27: 円 | P27: 合計 | U27: =IF(SUM(U22:X26)=0,"",SUM(U22:X26)) | Y27: 円
C28: ※メールアドレスは[@grp.tohoku.ac.jp]からのメールを受信できるものを記入のこと。
B30: □ | C30: 私は、募集案内の記載事項を確認し、了承した上で申請します。
B31: □ | C31: 私は、本学の国際共同学位取得支援制度（国際共同教育プログラム）に申請しておりません
B33: 【添付書類】
C34: □ | D34: 成績証明書 | H34: ="(学部生 : "&YEAR(TODAY())-1&"年度以降の成績が記載されているもの)" -> (学部生 : 2025年度以降の成績が記載されているもの)
H35: ="(大学院生 : "&YEAR(TODAY())-2&"年度以降の成績が記載されているもの)" -> (大学院生 : 2024年度以降の成績が記載されているもの)
C36: □ | D36: 語学能力証明書（写し）
C37: □ | D37: 入学許可書（写し）
C38: □ | D38: 留学計画書(別添書式使用のこと)
C39: □ | D39: 東北大学基金グローバル萩海外留学奨励賞 推薦書（別添書式使用のこと）
C40: □ | D40: 本留学に関する他の奨学金の受給金額がわかる書面（受給する場合のみ）

Sheet 留学計画書
B1: 留学計画書
B2: （※「派遣留学生候補者調書」を作成していない場合、提出すること）
B3: ※Excelを利用して作成のこと。手書き不可。
B4: 1. 氏名 | F4: ふりがな | H4: =IF('グローバル萩申請書'!G7="","",'グローバル萩申請書'!G7) | Q4: 2. 生年月日 | T4: =IF('グローバル萩申請書'!W8="","",'グローバル萩申請書'!W8) | W4: 年 | X4: =IF('グローバル萩申請書'!W9="","",'グローバル萩申請書'!W9) | Y4: 月 | Z4: =IF('グローバル萩申請書'!Y9="","",'グローバル萩申請書'!Y9) | AA4: 日
F5: =IF('グローバル萩申請書'!G8="","",'グローバル萩申請書'!G8) | Q5: 3. 性別 | T5: ='グローバル萩申請書'!W7 -> □ | U5: 男 | V5: ='グローバル萩申請書'!Y7 -> □ | W5: 女
Q6: 4. 学籍番号
B7: 5. 所属 | F7: =IF('グローバル萩申請書'!E5="","",'グローバル萩申請書'!E5) | J7: 学部 | L7: =IF('グローバル萩申請書'!M5="","",'グローバル萩申請書'!M5) | Q7: 学科 | X7: =IF('グローバル萩申請書'!W5="","",'グローバル萩申請書'!W5) | Z7: 年
J8: 研究科 | Q8: 専攻 | V8: =IF('グローバル萩申請書'!E6="■","","課程") -> 課程
B9: 6. 連絡先 | F9: 電話番号
G10: 携帯/自宅: | J10: =IF('グローバル萩申請書'!G12="","",'グローバル萩申請書'!G12)
G11: 研究室: | Q11: （研究室名： | X11: 研究室）
F13: Eメールアドレス（@grp.tohoku.ac.jpからのメールを受信できるものを記載のこと）
G14: E-mail: | J14: =IF('グローバル萩申請書'!O12="","",'グローバル萩申請書'!O12)
B16: 7. 成績評価係数 | K16: /4.000
B17: 8. 語学能力 | F17: TOEFL
G18: iBT
H19: 受験年月： | N19: 年 | P19: 月 | R19: 日
H20: スコア（総合）： | N20: 点
H21: スコア内訳： | K21: Reading: | O21: Listening: | S21: Speaking: | W21: Writing:
G22: PBT/ITP
H23: 受験年月： | N23: 年 | P23: 月 | R23: 日
H24: スコア（総合）： | N24: 点
H25: スコア内訳： | K25: Listening: | O25: Structure/Written Expression: | W25: Reading:
F27: IELTS
H28: 受験年月： | N28: 年 | P28: 月 | R28: 日
H29: スコア（総合）： | N29: 点
F31: その他（試験名）：
H32: 受験年月： | N32: 年 | P32: 月 | R32: 日
H33: スコア（総合）： | N33: 点
B35: 9. JASSO奨学金 申請状況 | F35: □ | G35: 申請している | L35: □ | M35: 申請していない
B37: 10. その他奨学金 | F37: 留学期間中に受給する予定の奨学金（申請中及び申請予定も含む）
B38: 申請・受給状況 | F38: 名 称：
F39: 機関名：
F40: 受給金額：
F41: 受給予定期間：
F42: 申請時期：
F43: 結果判明時期：
B47: 11. 留学大学 | F47: 国名: | I47: =IF('グローバル萩申請書'!I13="","",'グローバル萩申請書'!I13) | N47: 大学名: | P47: =IF('グローバル萩申請書'!I14="","",'グローバル萩申請書'!I14)
B53: 12. 留学期間 | F53: =IF('グローバル萩申請書'!J19="","",'グローバル萩申請書'!J19) | I53: 年 | J53: =IF('グローバル萩申請書'!M19="","",'グローバル萩申請書'!M19) | K53: 月 | L53: =IF('グローバル萩申請書'!O19="","",'グローバル萩申請書'!O19) | M53: 日 | N53: ～ | O53: =IF('グローバル萩申請書'!R19="","",'グローバル萩申請書'!R19) | R53: 年 | S53: =IF('グローバル萩申請書'!U19="","",'グローバル萩申請書'!U19) | T53: 月 | U53: =IF('グローバル萩申請書'!W19="","",'グローバル萩申請書'!W19) | V53: 日
B54: 13. 留学志望理由（詳細に記入のこと）
...
